BEGIN:VCALENDAR
VERSION:2.0
PRODID:-//Julia Spies - ECPv6.0.12//NONSGML v1.0//EN
CALSCALE:GREGORIAN
METHOD:PUBLISH
X-WR-CALNAME:Julia Spies
X-ORIGINAL-URL:https://www.juliamariaspies.de
X-WR-CALDESC:Veranstaltungen fÃ¼r Julia Spies
REFRESH-INTERVAL;VALUE=DURATION:PT1H
X-Robots-Tag:noindex
X-PUBLISHED-TTL:PT1H
BEGIN:VTIMEZONE
TZID:Europe/Berlin
BEGIN:DAYLIGHT
TZOFFSETFROM:+0100
TZOFFSETTO:+0200
TZNAME:CEST
DTSTART:20230326T010000
END:DAYLIGHT
BEGIN:STANDARD
TZOFFSETFROM:+0200
TZOFFSETTO:+0100
TZNAME:CET
DTSTART:20231029T010000
END:STANDARD
END:VTIMEZONE
BEGIN:VEVENT
DTSTART;TZID=Europe/Berlin:20230625T190000
DTEND;TZID=Europe/Berlin:20230625T190000
DTSTAMP:20260422T103525
CREATED:20230601T075334Z
LAST-MODIFIED:20230601T075655Z
UID:4736-1687719600-1687719600@www.juliamariaspies.de
SUMMARY:Klang der Ewigkeit â€“ ChorwerkRuhr (ION NÃ¼rnberg)
DESCRIPTION:Maurice DuruflÃ© (1902-1968)\nIntroit und Kyrie aus Requiem Op. 9 fÃ¼r gemischten Chor und Orgel \nSven-David SandstrÃ¶m (1942-2019) /Henry Purcell (1659-1695)\nHear My Prayer\, O Lord fÃ¼r gemischten Chor a cappella \nKrzysztof Penderecki (1933-2020)\nAgnus Dei aus Polnisches Requiem fÃ¼r gemischten Chor a cappella \nJohannes Brahms (1833-1897)\nWarum ist das Licht gegeben Opus 74. Nr. 1. fÃ¼r gemischten Chor a cappella \nJohann Sebastian Bach (1685-1750)\nPassacaglia c-Moll BWV 582 fÃ¼r Orgel \nOlivier Messiaen (1908-1927)\nO sacrum convivium fÃ¼r gemischten Chor a cappella \nCharles Hubert Hastings Parry (1848-1918)\nLord\, let me know mine end aus Songs of Farewell fÃ¼r gemischten Chor a cappella \nArnold SchÃ¶nberg (1874-1951)\nFriede auf Erden op. 13 fÃ¼r gemischten Chor a cappella \nJohannes Brahms (1833-1897)\nGeistliches Lied Opus 30 fÃ¼r gemischten Chor und Orgel \n\n  \nOrgel: PETER KOFLER\nCHORWERK RUHR\nDirigent: FLORIAN HELGATH
URL:https://www.juliamariaspies.de/event/klang-der-ewigkeit-chorwerkruhr-ion-nuernberg/
LOCATION:St. Sebald NÃ¼rnberg\, Winklerstr. 26\, NÃ¼rnberg\, BY\, 90403\, Deutschland
CATEGORIES:Gesang a capella,Konzert,Vokalensemble
END:VEVENT
BEGIN:VEVENT
DTSTART;TZID=Europe/Berlin:20230629T200000
DTEND;TZID=Europe/Berlin:20230629T200000
DTSTAMP:20260422T103525
CREATED:20230601T075614Z
LAST-MODIFIED:20230601T081800Z
UID:4741-1688068800-1688068800@www.juliamariaspies.de
SUMMARY:Masterclass â€“ ChorwerkRuhr (NÃ¼rnberg)
DESCRIPTION:Mit Musik von Hubert Parry\, Arnold SchÃ¶nberg\, Maurice DuruflÃ©\, Giacinto Scelsi\, Krzysztof Penderecki\, Olivier Messiaen und Anton Bruckner \n\n\n\n\nIn NÃ¼rnberg werden die Meister:innen von morgen gemacht. Am Ende des viertÃ¤gigen Meisterkurses mit Florian Helgath vom 26. â€“ 29. Juni prÃ¤sentieren sich die jungen Dirigent:innen in St. Martha und dirigieren Chorwerk Ruhr. So klingt die Zukunft der Chormusik! Und in NÃ¼rnberg wird sie gestaltet. \n\n\nTeilnehmer:innen des Forums Dirigieren\nCHORWERK RUHR\nLeitung: FLORIAN HELGATH
URL:https://www.juliamariaspies.de/event/masterclass-chorwerkruhr-nuernberg/
LOCATION:St. Martha\, KÃ¶nigstr. 79\, NÃ¼rnberg\, BY\, 90402\, Deutschland
CATEGORIES:Chor,Gesang a capella,Konzert,Vokalensemble
END:VEVENT
END:VCALENDAR