BEGIN:VCALENDAR
VERSION:2.0
PRODID:-//Julia Spies - ECPv6.0.12//NONSGML v1.0//EN
CALSCALE:GREGORIAN
METHOD:PUBLISH
X-ORIGINAL-URL:https://www.juliamariaspies.de
X-WR-CALDESC:Veranstaltungen für Julia Spies
REFRESH-INTERVAL;VALUE=DURATION:PT1H
X-Robots-Tag:noindex
X-PUBLISHED-TTL:PT1H
BEGIN:VTIMEZONE
TZID:Europe/Berlin
BEGIN:DAYLIGHT
TZOFFSETFROM:+0100
TZOFFSETTO:+0200
TZNAME:CEST
DTSTART:20220327T010000
END:DAYLIGHT
BEGIN:STANDARD
TZOFFSETFROM:+0200
TZOFFSETTO:+0100
TZNAME:CET
DTSTART:20221030T010000
END:STANDARD
END:VTIMEZONE
BEGIN:VEVENT
DTSTART;TZID=Europe/Berlin:20221007T200000
DTEND;TZID=Europe/Berlin:20221007T200000
DTSTAMP:20260425T124039
CREATED:20220924T215851Z
LAST-MODIFIED:20220924T220021Z
UID:4578-1665172800-1665172800@www.juliamariaspies.de
SUMMARY:Es steht ein Lind' - Duo Amaris (Ludwigshafen)
DESCRIPTION:„Es steht ein Lind‘…“ – Volkslieder für Mezzosopran und Gitarre \nDuo Amaris\nJulia Spies\, Mezzosopran\nJesse Flowers\, Gitarre \nVolkslieder verbinden uns mit den Generationen\, die vor uns gekommen sind. Sie geben uns einen\nEinblick in die emotionale\, soziale und politische Welt von Menschengemeinschaften\, auf intuitive\nund bewegende Weise. Mit jeder Überlieferung an die nächste Generation wird etwas verändert. Wir\nerfahren auch mehr über unsere heutige Zeit erfahren\, wenn wir uns fragen: Was haben wir mit den\nVolksliedern unserer Vorfahren gemacht? Wir begeben uns auf die Reise\, vom folkloristischen Ansatz\nspanischer Lieder bis hin zu den Bearbeitungen deutscher\, englischer und ungarischer und\nVolkslieder. Solostücke treten mit den Volksliedbearbeitungen in Dialog. Die Besetzung des Duo\nAmaris bildet den idealen Grundton dafür: Das \,Volksinstrument‘ Gitarre und die mittlere\nFrauenstimme interagieren mit allen Formen des Volksliedes – erzählerisch\, lyrisch\, dramatisch\,\ntemperamentvoll\, leise\, einfühlsam\, vielsprachig. \nEinlass ab 19.30 Uhr\nAnmeldung über E-Mail: ines.arnold@ludwigshafen.de
URL:https://www.juliamariaspies.de/event/es-steht-ein-lind-duo-amaris-ludwigshafen/
LOCATION:Stadtbibliothek Ludwigshafen\, Bismarckstr. 44-48\, Ludwigshafen\, Rheinland-Pfalz\, 67059\, Deutschland
CATEGORIES:Kammermusik Duo,Konzert,Liederabend
END:VEVENT
END:VCALENDAR