BEGIN:VCALENDAR
VERSION:2.0
PRODID:-//Julia Spies - ECPv6.0.12//NONSGML v1.0//EN
CALSCALE:GREGORIAN
METHOD:PUBLISH
X-ORIGINAL-URL:https://www.juliamariaspies.de
X-WR-CALDESC:Veranstaltungen für Julia Spies
REFRESH-INTERVAL;VALUE=DURATION:PT1H
X-Robots-Tag:noindex
X-PUBLISHED-TTL:PT1H
BEGIN:VTIMEZONE
TZID:Europe/Berlin
BEGIN:DAYLIGHT
TZOFFSETFROM:+0100
TZOFFSETTO:+0200
TZNAME:CEST
DTSTART:20200329T010000
END:DAYLIGHT
BEGIN:STANDARD
TZOFFSETFROM:+0200
TZOFFSETTO:+0100
TZNAME:CET
DTSTART:20201025T010000
END:STANDARD
END:VTIMEZONE
BEGIN:VEVENT
DTSTART;TZID=Europe/Berlin:20201016T200000
DTEND;TZID=Europe/Berlin:20201016T200000
DTSTAMP:20260426T061503
CREATED:20200917T155157Z
LAST-MODIFIED:20200917T155737Z
UID:4178-1602878400-1602878400@www.juliamariaspies.de
SUMMARY:Da unten im Tale - Duo Amaris (Herxheim)
DESCRIPTION:Ein Liederabend mit Gitarre und Gesang \nmit Liedern von Claude Debussy\, Manuel de Falla\, Enrique Granados und Franz Schubert. \nDuo Amaris\nJulia Spies\, Mezzosopran\nJesse Flowers\, Gitarre \nDas Konzert erfolgt im Rahmen der Bundesauswahl Konzerte Junger Künstler des Deutschen Musikrates. \nAusweichspielort\, sollte die Villa Wieser aufgrund der zum Zeitpunkt des Konzertes geltenden Corona-Bestimmungen als Spielort nicht in Frage kommen: Elmar-Weiller-Festhalle\, Bonifatiusstr. 22\, 76863 Herxheim. \nKarten (16 Euro\, erm. 12 Euro) unter herxheim.reservix.de/events und an allen bekannten Reservix-Vorverkaufsstellen.\nEinlass: ab 19 Uhr\nWir weisen darauf hin\, dass Abendkasse aufgrund der aktuellen Hygienevorschriften leider nicht möglich ist.
URL:https://www.juliamariaspies.de/event/da-unten-im-tale-duo-amaris-herxheim/
LOCATION:Villa Wieser Herxheim\, Obere Hauptstr. 3\, Herxheim\, Rheinland-Pfalz\, 76863\, Deutschland
CATEGORIES:Kammermusik Duo,Liederabend
END:VEVENT
END:VCALENDAR