BEGIN:VCALENDAR
VERSION:2.0
PRODID:-//Julia Spies - ECPv6.0.12//NONSGML v1.0//EN
CALSCALE:GREGORIAN
METHOD:PUBLISH
X-WR-CALNAME:Julia Spies
X-ORIGINAL-URL:https://www.juliamariaspies.de
X-WR-CALDESC:Veranstaltungen für Julia Spies
REFRESH-INTERVAL;VALUE=DURATION:PT1H
X-Robots-Tag:noindex
X-PUBLISHED-TTL:PT1H
BEGIN:VTIMEZONE
TZID:Europe/Berlin
BEGIN:DAYLIGHT
TZOFFSETFROM:+0100
TZOFFSETTO:+0200
TZNAME:CEST
DTSTART:20250330T010000
END:DAYLIGHT
BEGIN:STANDARD
TZOFFSETFROM:+0200
TZOFFSETTO:+0100
TZNAME:CET
DTSTART:20251026T010000
END:STANDARD
END:VTIMEZONE
BEGIN:VEVENT
DTSTART;TZID=Europe/Berlin:20250314T193000
DTEND;TZID=Europe/Berlin:20250314T193000
DTSTAMP:20260421T013800
CREATED:20250127T162119Z
LAST-MODIFIED:20250127T162627Z
UID:5182-1741980600-1741980600@www.juliamariaspies.de
SUMMARY:Friedensrufe – Seicento vocale (Gütersloh)
DESCRIPTION:RELEASE-KONZERTREIHE zur Veröffentlichung der Debut-CD\nFriedensrufe\ndes Vokalensembles Seicento vocale \nViktor Ullmann (1898–1944) – Melodram Die Weise von Liebe und Tod des Cornets Christoph Rilke (arrangiert für Chor & Klavier von Jan Croonenbroeck)\nErnst Krenek (1900–1991) – Kantate von der Vergänglichkeit des Irdischen\nMax Reger (1873–1916) – Requiem\nsowie weitere Chorwerke von Schumann und Brahms \nIm Mittelpunkt von „Friedensrufe“ stehen Kompositionen des 20. Jahrhunderts\, die einen Bogen schlagen vom Dreißigjährigen Krieg zu den Weltkriegen. Sie vertonen dabei Barock-Lyrik von Andreas Gryphius oder Martin Opitz wie auch die mitten ins Herz treffende Sprachgewalt Rainer Maria Rilkes. Das Programm stellt Kriegsgeschehen der vergangenen Jahrhunderte in klang- und wortgewaltigen Facetten dar und verarbeitet es so musikalisch wie emotional: Von der fragwürdigen Glorifizierung des Heldentodes bis hin zur offenkundigen Sinnlosigkeit jungen Sterbens.\n„Friedensrufe“ berührt\, rüttelt auf\, erschüttert und tröstet. \nMit Konzeptionen wie „Friedensrufe“ tragen wir als Musiker*innen zu einem bedachten\, zugewandten und historisch informierten gesellschaftlichen Miteinander bei. Das Projekt bildet eine Kultur des gemeinsamen Erinnerns und Mahnens für eine geschichtliche\, kulturelle wie auch Herzens-Bildung. \nCornelia Samuelis – Sopran\nHenriette Gödde – Alt\nCornelia Glassl – Klavier \nSeicento vocale\nMusikalische Leitung: Alexander Toepper & Jan Croonenbroeck \nLink zur CD: www.resonando.de/products/friedensrufe
URL:https://www.juliamariaspies.de/event/friedensrufe-seicento-vocale-guetersloh/
LOCATION:Matthäuskirche Güersloh\, Auf d. Haar 64\, Gütersloh\, NRW\, 33332\, Deutschland
CATEGORIES:CD-Release,Chor,Konzert,Vokalensemble
END:VEVENT
BEGIN:VEVENT
DTSTART;TZID=Europe/Berlin:20250315T180000
DTEND;TZID=Europe/Berlin:20250315T180000
DTSTAMP:20260421T013800
CREATED:20250127T162341Z
LAST-MODIFIED:20250127T162620Z
UID:5183-1742061600-1742061600@www.juliamariaspies.de
SUMMARY:Friedensrufe – Seicento vocale (Minden)
DESCRIPTION:RELEASE-KONZERTREIHE zur Veröffentlichung der Debut-CD\nFriedensrufe\ndes Vokalensembles Seicento vocale \nViktor Ullmann (1898–1944) – Melodram Die Weise von Liebe und Tod des Cornets Christoph Rilke (arrangiert für Chor & Klavier von Jan Croonenbroeck)\nErnst Krenek (1900–1991) – Kantate von der Vergänglichkeit des Irdischen\nMax Reger (1873–1916) – Requiem\nsowie weitere Chorwerke von Schumann und Brahms \nIm Mittelpunkt von „Friedensrufe“ stehen Kompositionen des 20. Jahrhunderts\, die einen Bogen schlagen vom Dreißigjährigen Krieg zu den Weltkriegen. Sie vertonen dabei Barock-Lyrik von Andreas Gryphius oder Martin Opitz wie auch die mitten ins Herz treffende Sprachgewalt Rainer Maria Rilkes. Das Programm stellt Kriegsgeschehen der vergangenen Jahrhunderte in klang- und wortgewaltigen Facetten dar und verarbeitet es so musikalisch wie emotional: Von der fragwürdigen Glorifizierung des Heldentodes bis hin zur offenkundigen Sinnlosigkeit jungen Sterbens.\n„Friedensrufe“ berührt\, rüttelt auf\, erschüttert und tröstet. \nMit Konzeptionen wie „Friedensrufe“ tragen wir als Musiker*innen zu einem bedachten\, zugewandten und historisch informierten gesellschaftlichen Miteinander bei. Das Projekt bildet eine Kultur des gemeinsamen Erinnerns und Mahnens für eine geschichtliche\, kulturelle wie auch Herzens-Bildung. \nCornelia Samuelis – Sopran\nHenriette Gödde – Alt\nCornelia Glassl – Klavier \nSeicento vocale\nMusikalische Leitung: Alexander Toepper & Jan Croonenbroeck \nLink zur CD: www.resonando.de/products/friedensrufe
URL:https://www.juliamariaspies.de/event/friedensrufe-seicento-vocale-minden/
LOCATION:St. Marien Minden\, Stiftstraße 2b\, Minden\, NRW\, 32427\, Deutschland
CATEGORIES:CD-Release,Chor,Konzert,Vokalensemble
END:VEVENT
BEGIN:VEVENT
DTSTART;TZID=Europe/Berlin:20250316T170000
DTEND;TZID=Europe/Berlin:20250316T170000
DTSTAMP:20260421T013800
CREATED:20250127T162611Z
LAST-MODIFIED:20250127T162641Z
UID:5184-1742144400-1742144400@www.juliamariaspies.de
SUMMARY:Friedensrufe – Seicento vocale (Bielefeld)
DESCRIPTION:RELEASE-KONZERTREIHE zur Veröffentlichung der Debut-CD\nFriedensrufe\ndes Vokalensembles Seicento vocale \nViktor Ullmann (1898–1944) – Melodram Die Weise von Liebe und Tod des Cornets Christoph Rilke (arrangiert für Chor & Klavier von Jan Croonenbroeck)\nErnst Krenek (1900–1991) – Kantate von der Vergänglichkeit des Irdischen\nMax Reger (1873–1916) – Requiem\nsowie weitere Chorwerke von Schumann und Brahms \nIm Mittelpunkt von „Friedensrufe“ stehen Kompositionen des 20. Jahrhunderts\, die einen Bogen schlagen vom Dreißigjährigen Krieg zu den Weltkriegen. Sie vertonen dabei Barock-Lyrik von Andreas Gryphius oder Martin Opitz wie auch die mitten ins Herz treffende Sprachgewalt Rainer Maria Rilkes. Das Programm stellt Kriegsgeschehen der vergangenen Jahrhunderte in klang- und wortgewaltigen Facetten dar und verarbeitet es so musikalisch wie emotional: Von der fragwürdigen Glorifizierung des Heldentodes bis hin zur offenkundigen Sinnlosigkeit jungen Sterbens.\n„Friedensrufe“ berührt\, rüttelt auf\, erschüttert und tröstet. \nMit Konzeptionen wie „Friedensrufe“ tragen wir als Musiker*innen zu einem bedachten\, zugewandten und historisch informierten gesellschaftlichen Miteinander bei. Das Projekt bildet eine Kultur des gemeinsamen Erinnerns und Mahnens für eine geschichtliche\, kulturelle wie auch Herzens-Bildung. \nCornelia Samuelis – Sopran\nHenriette Gödde – Alt\nCornelia Glassl – Klavier \nSeicento vocale\nMusikalische Leitung: Alexander Toepper & Jan Croonenbroeck \nLink zur CD: www.resonando.de/products/friedensrufe
URL:https://www.juliamariaspies.de/event/friedensrufe-seicento-vocale-bielefeld/
LOCATION:Zionskirche Belfeld-Bethel\, Am Zionswald 6\, Bielefeld\, NRW\, 33617\, Deutschland
CATEGORIES:CD-Release,Chor,Konzert,Vokalensemble
END:VEVENT
BEGIN:VEVENT
DTSTART;TZID=Europe/Berlin:20250321T190000
DTEND;TZID=Europe/Berlin:20250321T190000
DTSTAMP:20260421T013800
CREATED:20250303T102434Z
LAST-MODIFIED:20250303T102434Z
UID:5201-1742583600-1742583600@www.juliamariaspies.de
SUMMARY:&#8222;Bachs Geburtstag&#8220;: Membra Jesu nostri (Rotenburg\, Wümme)
DESCRIPTION:Bachs Geburtstag \nJohann Sebastian Bachs Geburtstag wird auch zum 340. Mal in die Passionszeit fallen\, und so werden\nMelodien des Thomaskantors die doch eher strenge\, aber exquisit klangschöne Musik Dietrich Buxtehudes\ndurchbrechen. Erleben Sie – kostenlos – das Innere der Stadtkirche in einem Lichtgewand\, das Sie so noch nicht gesehen haben und staunen Sie\, wie live im Konzert ein Bild entstehen wird\, welches die Klänge aufnehmen und sichtbar machen wird. \nBuxtehude „Membra Jesu nostri“\, Bach-Jazz-Kontraste\, Live-Painting und Illumination \nStephanie Henke (Sopran I)\nJulia Spies (Sopran II)\nMeindert Zwart (Altus)\nClemens Löschmann (Tenor)\nSönke Tams Freier (Baß) \nRagna Reusch (Live Painting) \nBenny Grenz Trio\nl’arco Hannover\nStadtKantorei Rotenburg \nLeitung: Kreiskantor Simon Schumacher \nQuelle: https://kirchenmusikrotenburg.de/wp-content/uploads/2025/01/Jahresprogramm-2025.pdf
URL:https://www.juliamariaspies.de/event/bachs-geburtstag-membra-jesu-nostri-rotenburg-wuemme/
LOCATION:Stadtkirche Rotenburg/Wümme\, Am Kirchhof 2\, Rotenburg/Wümme\, NRW\, 27356\, Deutschland
CATEGORIES:Alte Musik,Interdisziplinäre Projekte,Jazz,Konzert
END:VEVENT
BEGIN:VEVENT
DTSTART;TZID=Europe/Berlin:20250329T200000
DTEND;TZID=Europe/Berlin:20250329T200000
DTSTAMP:20260421T013800
CREATED:20250303T104030Z
LAST-MODIFIED:20250303T104030Z
UID:5202-1743278400-1743278400@www.juliamariaspies.de
SUMMARY:&#8222;Paradisi glori&#8220;: Haydn & Zelenka (Köln)
DESCRIPTION:»Paradisi gloria« \nJan Dismas Zelenka | Miserere c-moll\, ZWV 57\nJoseph Haydn | Stabat Mater\, Hob.XXbis \nJulia Hagenmüller | Sopran\nJulia Spies | Alt\nFabian Strotmann | Tenor\nAnton Kirchhoff | Bass \nConcerto con anima\nIngeborg Scheerer | Konzertmeisterin \nNico Köhs | Leitung
URL:https://www.juliamariaspies.de/event/paradisi-glori-haydn-zelenka-koeln/
LOCATION:Basilika St Aposteln\, Neumarkt 30\, Köln\, NRW\, 50667\, Deutschland
CATEGORIES:Konzert,Oratorium
END:VEVENT
BEGIN:VEVENT
DTSTART;TZID=Europe/Berlin:20250330T180000
DTEND;TZID=Europe/Berlin:20250330T180000
DTSTAMP:20260421T013800
CREATED:20250303T104055Z
LAST-MODIFIED:20250303T104956Z
UID:5203-1743357600-1743357600@www.juliamariaspies.de
SUMMARY:„Paradisi glori“: Haydn & Zelenka (Bonn)
DESCRIPTION:»Paradisi gloria« \nJan Dismas Zelenka | Miserere c-moll\, ZWV 57\nJoseph Haydn | Stabat Mater\, Hob.XXbis \nJulia Hagenmüller | Sopran\nJulia Spies | Alt\nFabian Strotmann | Tenor\nAnton Kirchhoff | Bass \nConcerto con anima\nIngeborg Scheerer | Konzertmeisterin \nNico Köhs | Leitung
URL:https://www.juliamariaspies.de/event/paradisi-glori-haydn-zelenka-bonn/
LOCATION:Stiftskirche St. Johann Baptist & Petrus\, Kölnstr. 31\, Bonn\, NRW\, 53111\, Deutschland
CATEGORIES:Konzert,Oratorium
END:VEVENT
END:VCALENDAR