BEGIN:VCALENDAR
VERSION:2.0
PRODID:-//Julia Spies - ECPv6.0.12//NONSGML v1.0//EN
CALSCALE:GREGORIAN
METHOD:PUBLISH
X-WR-CALNAME:Julia Spies
X-ORIGINAL-URL:https://www.juliamariaspies.de
X-WR-CALDESC:Veranstaltungen für Julia Spies
REFRESH-INTERVAL;VALUE=DURATION:PT1H
X-Robots-Tag:noindex
X-PUBLISHED-TTL:PT1H
BEGIN:VTIMEZONE
TZID:Europe/Berlin
BEGIN:DAYLIGHT
TZOFFSETFROM:+0100
TZOFFSETTO:+0200
TZNAME:CEST
DTSTART:20250330T010000
END:DAYLIGHT
BEGIN:STANDARD
TZOFFSETFROM:+0200
TZOFFSETTO:+0100
TZNAME:CET
DTSTART:20251026T010000
END:STANDARD
END:VTIMEZONE
BEGIN:VEVENT
DTSTART;TZID=Europe/Berlin:20250112T160000
DTEND;TZID=Europe/Berlin:20250112T160000
DTSTAMP:20260421T094340
CREATED:20241215T185131Z
LAST-MODIFIED:20241215T185610Z
UID:5163-1736697600-1736697600@www.juliamariaspies.de
SUMMARY:Oratorio de Noel (Herdorf)
DESCRIPTION:C. Saint-Saens\, Oratorio de Noel\nF. Durante\, Magnificat \nMerle Bader\, Sopran\nJulia Spies\, Mezzosopran\nJessica Meffert\, Alt\nMaximilian Fieth\, Tenor\nFrederik Schauhoff\, Bariton \nKirchenchor Cäcilia Herdorf\nCamerata Instrumentale Siegen \nLeitung: Torsten Stendenbach \nNeben dem romantischen Oratorio de Noel von Camille Saint-Saens\, ein Werk für\n5 Solostimmen\, Streichorchester und Chor erklingt das Magnifikat von Francesco Durante ebenfalls für Chor\, Solisten und Streichorchester. Mit weiteren Werken von John Rutter und Franz Xaver Brixi wird der Kirchenchor Cäcilia Herdorf die Weihnachtszeit klangvoll beenden.\nQuelle: https://www.pr-betzdorf.de/aktuelles/veranstaltungen/veranstaltung/Weihnachtsoratorium-von-Camille-Saint-Saens-in-St.-Aloisius-Herdorf-2025.01.12/
URL:https://www.juliamariaspies.de/event/oratorio-de-noel-herdorf/
LOCATION:St. Aloisius Herdorf\, Hauptstr. 26\, Herdorf\, NRW\, 57562\, Deutschland
CATEGORIES:Konzert,Oratorium
END:VEVENT
BEGIN:VEVENT
DTSTART;TZID=Europe/Berlin:20250119T180000
DTEND;TZID=Europe/Berlin:20250119T180000
DTSTAMP:20260421T094340
CREATED:20241215T184825Z
LAST-MODIFIED:20241215T185715Z
UID:5158-1737309600-1737309600@www.juliamariaspies.de
SUMMARY:„Tell them“ – Duo Amaris (Koblenz)
DESCRIPTION:Volkslieder geben uns einen Einblick in die emotionale\, soziale und politische Welt von Menschengemeinschaften\, auf intuitive und bewegende Weise. Wir begeben uns auf die Reise\, vom folkloristischen Ansatz spanischer Lieder bis hin zu den Bearbeitungen deutscher\, englischer und ungarischer Volkslieder. Im Dialog damit: der eigens für das Duo Amaris geschriebene Liedzyklus „Tell them“ (2023) des brasilianischen Komponisten João Luiz auf Texte der marshallischen Dichterin Kathy Jetñil-Kijiner. Das &#8218;Volksinstrument&#8216; Gitarre und die mittlere Frauenstimme bilden den idealen Grundton dafür – erzählerisch\, lyrisch\, dramatisch\, temperamentvoll\, leise\, einfühlsam\, vielsprachig. \nJohannes Brahms\, Fünf Volkslieder \nBéla Bartók\, Fünf Volkslieder aus: Magyar Népdalok BB42 \nBenjamin Britten\, Drei Folk Songs aus: Folksong Arrangements vol. 6 \nJoão Luiz\, Tell Them (2023\, komponiert für Duo Amaris) \nFederico García Lorca\, Fünf Volkslieder aus: Canciones españolas antiguas \nDuo Amaris:\nJulia Spies\, Mezzosospran\nJesse Flowers\, Gitarre \nSiehe auch: www.duoamaris.com
URL:https://www.juliamariaspies.de/event/tell-them-duo-amaris-koblenz/
LOCATION:Rheinsaal\, Rhein-Mosel-Halle Koblenz\, Julius-Wegeler-Str. 4\, Koblenz\, Rheinland-Pfalz\, 56068\, Deutschland
CATEGORIES:Liederabend
END:VEVENT
END:VCALENDAR